BEGIN:VCALENDAR
VERSION:2.0
PRODID:-//Australian Plants Society Victoria - ECPv5.3.2.1//NONSGML v1.0//EN
CALSCALE:GREGORIAN
METHOD:PUBLISH
X-WR-CALNAME:Australian Plants Society Victoria
X-ORIGINAL-URL:https://apsvic.org.au
X-WR-CALDESC:Events for Australian Plants Society Victoria
BEGIN:VTIMEZONE
TZID:Australia/Melbourne
BEGIN:STANDARD
TZOFFSETFROM:+1100
TZOFFSETTO:+1000
TZNAME:AEST
DTSTART:20210403T160000
END:STANDARD
BEGIN:DAYLIGHT
TZOFFSETFROM:+1000
TZOFFSETTO:+1100
TZNAME:AEDT
DTSTART:20211002T160000
END:DAYLIGHT
END:VTIMEZONE
BEGIN:VEVENT
DTSTART;TZID=Australia/Melbourne:20210202T200000
DTEND;TZID=Australia/Melbourne:20210202T220000
DTSTAMP:20210223T142559
CREATED:20210118T220922Z
LAST-MODIFIED:20210118T221244Z
UID:5416-1612296000-1612303200@apsvic.org.au
SUMMARY:APS SE Melb Meeting
DESCRIPTION:Topic: “Early Plant Collectors other than Banks and Solander”. Speaker: John Thompson
URL:https://apsvic.org.au/event/aps-se-melb-meeting/
CATEGORIES:Meeting
END:VEVENT
END:VCALENDAR