BEGIN:VCALENDAR
VERSION:2.0
PRODID:-//Australian Plants Society Victoria - ECPv5.3.2.1//NONSGML v1.0//EN
CALSCALE:GREGORIAN
METHOD:PUBLISH
X-WR-CALNAME:Australian Plants Society Victoria
X-ORIGINAL-URL:https://apsvic.org.au
X-WR-CALDESC:Events for Australian Plants Society Victoria
BEGIN:VTIMEZONE
TZID:Australia/Melbourne
BEGIN:STANDARD
TZOFFSETFROM:+1100
TZOFFSETTO:+1000
TZNAME:AEST
DTSTART:20210403T160000
END:STANDARD
BEGIN:DAYLIGHT
TZOFFSETFROM:+1000
TZOFFSETTO:+1100
TZNAME:AEDT
DTSTART:20211002T160000
END:DAYLIGHT
END:VTIMEZONE
BEGIN:VEVENT
DTSTART;TZID=Australia/Melbourne:20210210T180000
DTEND;TZID=Australia/Melbourne:20210210T200000
DTSTAMP:20210223T142647
CREATED:20210128T084333Z
LAST-MODIFIED:20210128T084333Z
UID:5465-1612980000-1612987200@apsvic.org.au
SUMMARY:APS South Gippsland Outing
DESCRIPTION:Mossvale Park Twilight Picnic
URL:https://apsvic.org.au/event/aps-south-gippsland-outing-2/
END:VEVENT
BEGIN:VEVENT
DTSTART;TZID=Australia/Melbourne:20210210T193000
DTEND;TZID=Australia/Melbourne:20210210T220000
DTSTAMP:20210223T142647
CREATED:20201206T074241Z
LAST-MODIFIED:20201206T074241Z
UID:5354-1612985400-1612994400@apsvic.org.au
SUMMARY:APS Ballarat Meeting
DESCRIPTION:‘Membership Night’. Bring your Plant Specimens and Garden Stories.\nPlease Note: This meeting will happen subject to COVID-19 regulations at the time.\nPLEASE SEE THE FEBRUARY 2021 NEWSLETTER FOR DETAILS
URL:https://apsvic.org.au/event/aps-ballarat-meeting/
CATEGORIES:Meeting
END:VEVENT
END:VCALENDAR