BEGIN:VCALENDAR
VERSION:2.0
PRODID:-//Australian Plants Society Victoria - ECPv5.3.2.1//NONSGML v1.0//EN
CALSCALE:GREGORIAN
METHOD:PUBLISH
X-WR-CALNAME:Australian Plants Society Victoria
X-ORIGINAL-URL:https://apsvic.org.au
X-WR-CALDESC:Events for Australian Plants Society Victoria
BEGIN:VTIMEZONE
TZID:Australia/Melbourne
BEGIN:STANDARD
TZOFFSETFROM:+1100
TZOFFSETTO:+1000
TZNAME:AEST
DTSTART:20210403T160000
END:STANDARD
BEGIN:DAYLIGHT
TZOFFSETFROM:+1000
TZOFFSETTO:+1100
TZNAME:AEDT
DTSTART:20211002T160000
END:DAYLIGHT
END:VTIMEZONE
BEGIN:VEVENT
DTSTART;TZID=Australia/Melbourne:20210216T163000
DTEND;TZID=Australia/Melbourne:20210216T193000
DTSTAMP:20210223T142944
CREATED:20210202T040457Z
LAST-MODIFIED:20210202T040537Z
UID:5485-1613493000-1613503800@apsvic.org.au
SUMMARY:APS Geelong Outing
DESCRIPTION:BBQ at Frank and Tina’s place \nPlease note: Only 30 people are allowed to gather under current Covid restrictions\, so Frank and Tina can have only twenty eight guests. First in best dressed. You MUST email Frank with your intention to attend. Frank will confirm that you are one of the twenty-eight permitted. Once the thirty maximum has been reached\, Frank will inform any others that the quota is full.
URL:https://apsvic.org.au/event/aps-geelong-outing/
END:VEVENT
BEGIN:VEVENT
DTSTART;TZID=Australia/Melbourne:20210216T180000
DTEND;TZID=Australia/Melbourne:20210216T203000
DTSTAMP:20210223T142944
CREATED:20210208T234504Z
LAST-MODIFIED:20210208T234504Z
UID:5525-1613498400-1613507400@apsvic.org.au
SUMMARY:APS Grampians Meeting
DESCRIPTION:Halls Gap Botanic Garden\nMeet at 6pm\nBYO picnic dinner and chairs.\nBarbecues will not be available.
URL:https://apsvic.org.au/event/aps-grampians-meeting-11/
CATEGORIES:Meeting
END:VEVENT
END:VCALENDAR