BEGIN:VCALENDAR
VERSION:2.0
PRODID:-//Australian Plants Society Victoria - ECPv5.3.2.1//NONSGML v1.0//EN
CALSCALE:GREGORIAN
METHOD:PUBLISH
X-WR-CALNAME:Australian Plants Society Victoria
X-ORIGINAL-URL:https://apsvic.org.au
X-WR-CALDESC:Events for Australian Plants Society Victoria
BEGIN:VTIMEZONE
TZID:Australia/Melbourne
BEGIN:STANDARD
TZOFFSETFROM:+1100
TZOFFSETTO:+1000
TZNAME:AEST
DTSTART:20210403T160000
END:STANDARD
BEGIN:DAYLIGHT
TZOFFSETFROM:+1000
TZOFFSETTO:+1100
TZNAME:AEDT
DTSTART:20211002T160000
END:DAYLIGHT
END:VTIMEZONE
BEGIN:VEVENT
DTSTART;VALUE=DATE:20210219
DTEND;VALUE=DATE:20210220
DTSTAMP:20210223T143155
CREATED:20210103T231232Z
LAST-MODIFIED:20210103T231232Z
UID:5409-1613692800-1613779199@apsvic.org.au
SUMMARY:APS Maroondah Online Meeting
DESCRIPTION:
URL:https://apsvic.org.au/event/aps-maroondah-online-meeting/
CATEGORIES:Meeting
END:VEVENT
END:VCALENDAR